BEGIN:VCALENDAR
VERSION:2.0
PRODID:-//Brann Bataljon Øst - BBØ - ECPv5.1.6//NONSGML v1.0//EN
CALSCALE:GREGORIAN
METHOD:PUBLISH
X-WR-CALNAME:Brann Bataljon Øst - BBØ
X-ORIGINAL-URL:https://www.brannoest.no/BBB
X-WR-CALDESC:Arrangementer for Brann Bataljon Øst - BBØ
BEGIN:VTIMEZONE
TZID:Europe/Oslo
BEGIN:DAYLIGHT
TZOFFSETFROM:+0100
TZOFFSETTO:+0200
TZNAME:CEST
DTSTART:20150329T010000
END:DAYLIGHT
BEGIN:STANDARD
TZOFFSETFROM:+0200
TZOFFSETTO:+0100
TZNAME:CET
DTSTART:20151025T010000
END:STANDARD
END:VTIMEZONE
BEGIN:VEVENT
DTSTART;TZID=Europe/Oslo:20150812T190000
DTEND;TZID=Europe/Oslo:20150812T210000
DTSTAMP:20260425T142136
CREATED:20150616T113157Z
LAST-MODIFIED:20150616T113157Z
UID:2103-1439406000-1439413200@www.brannoest.no
SUMMARY:Åsane @SK Brann
DESCRIPTION:Lokalderby. \nLokale Tangotrøyer reiser igjennom sentrum til Minde! \nPå TV: TV2 Zebra
URL:https://www.brannoest.no/BBB/event/asane-sk-brann/
LOCATION:Stavanger Stadion\, Stavanger\, Norge
END:VEVENT
END:VCALENDAR