BEGIN:VCALENDAR
VERSION:2.0
PRODID:-//Brann Bataljon Øst - BBØ - ECPv5.1.6//NONSGML v1.0//EN
CALSCALE:GREGORIAN
METHOD:PUBLISH
X-WR-CALNAME:Brann Bataljon Øst - BBØ
X-ORIGINAL-URL:https://www.brannoest.no/BBB
X-WR-CALDESC:Arrangementer for Brann Bataljon Øst - BBØ
BEGIN:VTIMEZONE
TZID:Europe/Helsinki
BEGIN:DAYLIGHT
TZOFFSETFROM:+0200
TZOFFSETTO:+0300
TZNAME:EEST
DTSTART:20150329T010000
END:DAYLIGHT
BEGIN:STANDARD
TZOFFSETFROM:+0300
TZOFFSETTO:+0200
TZNAME:EET
DTSTART:20151025T010000
END:STANDARD
END:VTIMEZONE
BEGIN:VEVENT
DTSTART;TZID=Europe/Helsinki:20151018T180000
DTEND;TZID=Europe/Helsinki:20151018T200000
DTSTAMP:20260423T012736
CREATED:20150917T093558Z
LAST-MODIFIED:20150917T093558Z
UID:2353-1445191200-1445198400@www.brannoest.no
SUMMARY:Brann - Bærum
DESCRIPTION:28. Serierunde
URL:https://www.brannoest.no/BBB/event/brann-baerum/
LOCATION:Stavanger Stadion\, Stavanger\, Norge
END:VEVENT
END:VCALENDAR