BEGIN:VCALENDAR
VERSION:2.0
PRODID:-//Brann Bataljon Øst - BBØ - ECPv5.1.6//NONSGML v1.0//EN
CALSCALE:GREGORIAN
METHOD:PUBLISH
X-WR-CALNAME:Brann Bataljon Øst - BBØ
X-ORIGINAL-URL:https://www.brannoest.no/BBB
X-WR-CALDESC:Arrangementer for Brann Bataljon Øst - BBØ
BEGIN:VTIMEZONE
TZID:Europe/Oslo
BEGIN:DAYLIGHT
TZOFFSETFROM:+0100
TZOFFSETTO:+0200
TZNAME:CEST
DTSTART:20150329T010000
END:DAYLIGHT
BEGIN:STANDARD
TZOFFSETFROM:+0200
TZOFFSETTO:+0100
TZNAME:CET
DTSTART:20151025T010000
END:STANDARD
END:VTIMEZONE
BEGIN:VEVENT
DTSTART;TZID=Europe/Oslo:20150913T180000
DTEND;TZID=Europe/Oslo:20150913T200000
DTSTAMP:20260423T101203
CREATED:20150805T093449Z
LAST-MODIFIED:20150805T093449Z
UID:2291-1442167200-1442174400@www.brannoest.no
SUMMARY:Brann-Fredrikstad
DESCRIPTION:Plankebyen kommer til Stadion \nHau hau!
URL:https://www.brannoest.no/BBB/event/brann-fredrikstad/
LOCATION:Stavanger Stadion\, Stavanger\, Norge
END:VEVENT
END:VCALENDAR