BEGIN:VCALENDAR
VERSION:2.0
PRODID:-//Brann Bataljon Øst - BBØ - ECPv5.1.6//NONSGML v1.0//EN
CALSCALE:GREGORIAN
METHOD:PUBLISH
X-WR-CALNAME:Brann Bataljon Øst - BBØ
X-ORIGINAL-URL:https://www.brannoest.no/BBB
X-WR-CALDESC:Arrangementer for Brann Bataljon Øst - BBØ
BEGIN:VTIMEZONE
TZID:Europe/Helsinki
BEGIN:DAYLIGHT
TZOFFSETFROM:+0200
TZOFFSETTO:+0300
TZNAME:EEST
DTSTART:20150329T010000
END:DAYLIGHT
BEGIN:STANDARD
TZOFFSETFROM:+0300
TZOFFSETTO:+0200
TZNAME:EET
DTSTART:20151025T010000
END:STANDARD
END:VTIMEZONE
BEGIN:VEVENT
DTSTART;TZID=Europe/Helsinki:20151101T130000
DTEND;TZID=Europe/Helsinki:20151101T150000
DTSTAMP:20260422T221838
CREATED:20150917T093935Z
LAST-MODIFIED:20150917T093935Z
UID:2357-1446382800-1446390000@www.brannoest.no
SUMMARY:Brann - Hødd
DESCRIPTION:30. og siste serierunde. \nOpprykk\, kvalifisering eller en runde til? \n 
URL:https://www.brannoest.no/BBB/event/brann-hodd/
LOCATION:Stavanger Stadion\, Stavanger\, Norge
END:VEVENT
END:VCALENDAR