BEGIN:VCALENDAR
VERSION:2.0
PRODID:-//Brann Bataljon Øst - BBØ - ECPv5.1.6//NONSGML v1.0//EN
CALSCALE:GREGORIAN
METHOD:PUBLISH
X-WR-CALNAME:Brann Bataljon Øst - BBØ
X-ORIGINAL-URL:https://www.brannoest.no/BBB
X-WR-CALDESC:Arrangementer for Brann Bataljon Øst - BBØ
BEGIN:VTIMEZONE
TZID:Europe/Paris
BEGIN:DAYLIGHT
TZOFFSETFROM:+0100
TZOFFSETTO:+0200
TZNAME:CEST
DTSTART:20170326T010000
END:DAYLIGHT
BEGIN:STANDARD
TZOFFSETFROM:+0200
TZOFFSETTO:+0100
TZNAME:CET
DTSTART:20171029T010000
END:STANDARD
END:VTIMEZONE
BEGIN:VEVENT
DTSTART;TZID=Europe/Paris:20171119T140000
DTEND;TZID=Europe/Paris:20171119T160000
DTSTAMP:20260423T012221
CREATED:20171009T173735Z
LAST-MODIFIED:20171009T173735Z
UID:3621-1511100000-1511107200@www.brannoest.no
SUMMARY:En dram i timen før to timer i Drammen
DESCRIPTION:BBØ tar toget til Drammen.\nVi samler troppene på Cafe Fiasco \nAvganger på søndager til Drammen:\n14:09-19-29-39-49 etc etc \nBBØ på tur\nAvreise 15 ish
URL:https://www.brannoest.no/BBB/event/en-dram-i-timen-for-to-timer-i-drammen/
LOCATION:Cafe Fiasco\, v. Plaza
END:VEVENT
END:VCALENDAR