BEGIN:VCALENDAR
VERSION:2.0
PRODID:-//Brann Bataljon Øst - BBØ - ECPv5.1.6//NONSGML v1.0//EN
CALSCALE:GREGORIAN
METHOD:PUBLISH
X-WR-CALNAME:Brann Bataljon Øst - BBØ
X-ORIGINAL-URL:https://www.brannoest.no/BBB
X-WR-CALDESC:Arrangementer for Brann Bataljon Øst - BBØ
BEGIN:VTIMEZONE
TZID:Europe/Paris
BEGIN:DAYLIGHT
TZOFFSETFROM:+0100
TZOFFSETTO:+0200
TZNAME:CEST
DTSTART:20180325T010000
END:DAYLIGHT
BEGIN:STANDARD
TZOFFSETFROM:+0200
TZOFFSETTO:+0100
TZNAME:CET
DTSTART:20181028T010000
END:STANDARD
END:VTIMEZONE
BEGIN:VEVENT
DTSTART;VALUE=DATE:20180512
DTEND;VALUE=DATE:20180513
DTSTAMP:20260422T205207
CREATED:20180419T172757Z
LAST-MODIFIED:20180502T194407Z
UID:3878-1526083200-1526169599@www.brannoest.no
SUMMARY:Fyrebuss: Kristiansand - Start vs Brann
DESCRIPTION:Fyrebussen\nBBØ snurrer igang Fyrebussen.\nLangtur til Kristiansand. Lørdagskamp.\nKO 18:00\nRetur rett etter kampslutt \nForeløpig program:\nAvreise:\nca 09:00 – Plaza\nca 09:30 min senere – Bangeløkka\, Drammen\nAnkomst Kristiansand: tidlig ettermiddag –  Pub\, Kristiansand\n-> Retur rett etter kampslutt. \nPris: TBA\, avhengig av påmeldte. BBØ vil sponse noe.\nPåmelding: epost til brannoest@gmail.com – Emnefelt Kristiansand / Start \nPå BBØ sine turer gjelder BBØ sitt turreglement. \nBBØ er ikke ansvarlig for korresponderende transport på vei hjem. Stopp ellers etter avtale.
URL:https://www.brannoest.no/BBB/event/fyrebuss-kristiansand-start-vs-brann/
LOCATION:Plaza\, Oslo
END:VEVENT
END:VCALENDAR