BEGIN:VCALENDAR
VERSION:2.0
PRODID:-//Brann Bataljon Øst - BBØ - ECPv5.1.6//NONSGML v1.0//EN
CALSCALE:GREGORIAN
METHOD:PUBLISH
X-WR-CALNAME:Brann Bataljon Øst - BBØ
X-ORIGINAL-URL:https://www.brannoest.no/BBB
X-WR-CALDESC:Arrangementer for Brann Bataljon Øst - BBØ
BEGIN:VTIMEZONE
TZID:Europe/Paris
BEGIN:DAYLIGHT
TZOFFSETFROM:+0100
TZOFFSETTO:+0200
TZNAME:CEST
DTSTART:20180325T010000
END:DAYLIGHT
BEGIN:STANDARD
TZOFFSETFROM:+0200
TZOFFSETTO:+0100
TZNAME:CET
DTSTART:20181028T010000
END:STANDARD
END:VTIMEZONE
BEGIN:VEVENT
DTSTART;TZID=Europe/Paris:20180530T160000
DTEND;TZID=Europe/Paris:20180530T220000
DTSTAMP:20260423T013601
CREATED:20180518T125824Z
LAST-MODIFIED:20180528T140852Z
UID:4020-1527696000-1527717600@www.brannoest.no
SUMMARY:Kampdag: Lillestrøm-SK Brann NM
DESCRIPTION:Tilbake til Åråsen. \nHeisann\, det er BBØ!\nCup. \nArbeidsdag. Sent Avspark: 20:00 \n\n\nDe som kan\, samles på Cafe Fiasco for felles avreise til stasjonsbyen.\n\n\nBataljonen kommer med info om evt. samlingssted i Lillestrøm\n\n\n \n\n\nNSB er vår venn:\n\n\n16:04-14-24-32-34-44-54 17:02\n\n\n \n\n\nK.O. 20:00 på Åråsen.\n\n\nBillettlink på brann.no\n\n\n \n\n\nKampdag!\n\n\nKjør over pakket!\n\n\n  \n 
URL:https://www.brannoest.no/BBB/event/kampdag-lillestrom-sk-brann-nm/
LOCATION:Åråsen Stadion\, Lillestrøm\, Norge
CATEGORIES:Kampdag
END:VEVENT
END:VCALENDAR