BEGIN:VCALENDAR
VERSION:2.0
PRODID:-//Brann Bataljon Øst - BBØ - ECPv5.1.6//NONSGML v1.0//EN
CALSCALE:GREGORIAN
METHOD:PUBLISH
X-WR-CALNAME:Brann Bataljon Øst - BBØ
X-ORIGINAL-URL:https://www.brannoest.no/BBB
X-WR-CALDESC:Arrangementer for Brann Bataljon Øst - BBØ
BEGIN:VTIMEZONE
TZID:Europe/Paris
BEGIN:DAYLIGHT
TZOFFSETFROM:+0100
TZOFFSETTO:+0200
TZNAME:CEST
DTSTART:20170326T010000
END:DAYLIGHT
BEGIN:STANDARD
TZOFFSETFROM:+0200
TZOFFSETTO:+0100
TZNAME:CET
DTSTART:20171029T010000
END:STANDARD
END:VTIMEZONE
BEGIN:VEVENT
DTSTART;TZID=Europe/Paris:20171105T180000
DTEND;TZID=Europe/Paris:20171105T200000
DTSTAMP:20260423T011247
CREATED:20171009T172710Z
LAST-MODIFIED:20171009T172710Z
UID:3619-1509904800-1509912000@www.brannoest.no
SUMMARY:Kopekassa: Brann-Lillestrøm
DESCRIPTION:Gampefotballens konge returnerer til Stadion.\nLillestrøm.\nIgjen er det muligheter for poeng. \nFor de som er i Oslo\, ta turen.\nLid på pub.\nHeia Brann
URL:https://www.brannoest.no/BBB/event/kopekassa-brann-lillestrom/
LOCATION:O’Reilys\, Markveien 35\, Oslo
END:VEVENT
END:VCALENDAR