BEGIN:VCALENDAR
VERSION:2.0
PRODID:-//Brann Bataljon Øst - BBØ - ECPv5.1.6//NONSGML v1.0//EN
CALSCALE:GREGORIAN
METHOD:PUBLISH
X-WR-CALNAME:Brann Bataljon Øst - BBØ
X-ORIGINAL-URL:https://www.brannoest.no/BBB
X-WR-CALDESC:Arrangementer for Brann Bataljon Øst - BBØ
BEGIN:VTIMEZONE
TZID:Europe/Helsinki
BEGIN:DAYLIGHT
TZOFFSETFROM:+0200
TZOFFSETTO:+0300
TZNAME:EEST
DTSTART:20160327T010000
END:DAYLIGHT
BEGIN:STANDARD
TZOFFSETFROM:+0300
TZOFFSETTO:+0200
TZNAME:EET
DTSTART:20161030T010000
END:STANDARD
END:VTIMEZONE
BEGIN:VEVENT
DTSTART;TZID=Europe/Helsinki:20161106T180000
DTEND;TZID=Europe/Helsinki:20161106T200000
DTSTAMP:20260423T081521
CREATED:20160930T112125Z
LAST-MODIFIED:20160930T112125Z
UID:2851-1478455200-1478462400@www.brannoest.no
SUMMARY:Kopekassa: Brann-Sarpsborg08
DESCRIPTION:Sølvet skal hem?\nKamp om medaljer?\nEuropacup?\nUbeseiret på hjemmebane?\nSiste spurt 2016.
URL:https://www.brannoest.no/BBB/event/kopekassa-brann-sarpsborg08/
LOCATION:O’Reilys\, Markveien 35\, Oslo
ORGANIZER;CN="BB%C3%98":MAILTO:einaravh@gmail.com
END:VEVENT
END:VCALENDAR