BEGIN:VCALENDAR
VERSION:2.0
PRODID:-//Brann Bataljon Øst - BBØ - ECPv5.1.6//NONSGML v1.0//EN
CALSCALE:GREGORIAN
METHOD:PUBLISH
X-WR-CALNAME:Brann Bataljon Øst - BBØ
X-ORIGINAL-URL:https://www.brannoest.no/BBB
X-WR-CALDESC:Arrangementer for Brann Bataljon Øst - BBØ
BEGIN:VTIMEZONE
TZID:Europe/Paris
BEGIN:DAYLIGHT
TZOFFSETFROM:+0100
TZOFFSETTO:+0200
TZNAME:CEST
DTSTART:20180325T010000
END:DAYLIGHT
BEGIN:STANDARD
TZOFFSETFROM:+0200
TZOFFSETTO:+0100
TZNAME:CET
DTSTART:20181028T010000
END:STANDARD
END:VTIMEZONE
BEGIN:VEVENT
DTSTART;TZID=Europe/Paris:20180527T200000
DTEND;TZID=Europe/Paris:20180527T220000
DTSTAMP:20260422T235639
CREATED:20180419T173944Z
LAST-MODIFIED:20180419T173944Z
UID:3888-1527451200-1527458400@www.brannoest.no
SUMMARY:Kopekassa: Rosenborg-Brann
DESCRIPTION:Lid i felleskap. Ta turen. Se kampen med supportere.\nO’Reilys – Markveien 35\, Grunerløkka
URL:https://www.brannoest.no/BBB/event/kopekassa-rosenborg-brann/
LOCATION:O’Reilys\, Markveien 35\, Oslo
ORGANIZER;CN="BB%C3%98":MAILTO:einaravh@gmail.com
END:VEVENT
END:VCALENDAR