BEGIN:VCALENDAR
VERSION:2.0
PRODID:-//Brann Bataljon Øst - BBØ - ECPv5.1.6//NONSGML v1.0//EN
CALSCALE:GREGORIAN
METHOD:PUBLISH
X-WR-CALNAME:Brann Bataljon Øst - BBØ
X-ORIGINAL-URL:https://www.brannoest.no/BBB
X-WR-CALDESC:Arrangementer for Brann Bataljon Øst - BBØ
BEGIN:VTIMEZONE
TZID:Europe/Helsinki
BEGIN:DAYLIGHT
TZOFFSETFROM:+0200
TZOFFSETTO:+0300
TZNAME:EEST
DTSTART:20160327T010000
END:DAYLIGHT
BEGIN:STANDARD
TZOFFSETFROM:+0300
TZOFFSETTO:+0200
TZNAME:EET
DTSTART:20161030T010000
END:STANDARD
END:VTIMEZONE
BEGIN:VEVENT
DTSTART;TZID=Europe/Helsinki:20161001T180000
DTEND;TZID=Europe/Helsinki:20161001T200000
DTSTAMP:20260425T130738
CREATED:20160930T111417Z
LAST-MODIFIED:20160930T111417Z
UID:2838-1475344800-1475352000@www.brannoest.no
SUMMARY:Kopekassa: Sogndal-Brann
DESCRIPTION:Saftblanding \nLid i felleskap
URL:https://www.brannoest.no/BBB/event/kopekassa-sogndal-brann/
LOCATION:O’Reilys\, Markveien 35\, Oslo
ORGANIZER;CN="BB%C3%98":MAILTO:einaravh@gmail.com
END:VEVENT
END:VCALENDAR