BEGIN:VCALENDAR
VERSION:2.0
PRODID:-//Brann Bataljon Øst - BBØ - ECPv5.1.6//NONSGML v1.0//EN
CALSCALE:GREGORIAN
METHOD:PUBLISH
X-WR-CALNAME:Brann Bataljon Øst - BBØ
X-ORIGINAL-URL:https://www.brannoest.no/BBB
X-WR-CALDESC:Arrangementer for Brann Bataljon Øst - BBØ
BEGIN:VTIMEZONE
TZID:Europe/Helsinki
BEGIN:DAYLIGHT
TZOFFSETFROM:+0200
TZOFFSETTO:+0300
TZNAME:EEST
DTSTART:20150329T010000
END:DAYLIGHT
BEGIN:STANDARD
TZOFFSETFROM:+0300
TZOFFSETTO:+0200
TZNAME:EET
DTSTART:20151025T010000
END:STANDARD
END:VTIMEZONE
BEGIN:VEVENT
DTSTART;TZID=Europe/Helsinki:20151025T140000
DTEND;TZID=Europe/Helsinki:20151025T160000
DTSTAMP:20260422T235604
CREATED:20150917T093725Z
LAST-MODIFIED:20150917T093725Z
UID:2354-1445781600-1445788800@www.brannoest.no
SUMMARY:Nest-Sotra vs SK Brann
DESCRIPTION:29. Serierunde. \nSotra…
URL:https://www.brannoest.no/BBB/event/nest-sotra-vs-sk-brann/
LOCATION:Sotra Stadion\, Øygarden
END:VEVENT
END:VCALENDAR