BEGIN:VCALENDAR
VERSION:2.0
PRODID:-//Brann Bataljon Øst - BBØ - ECPv5.1.6//NONSGML v1.0//EN
CALSCALE:GREGORIAN
METHOD:PUBLISH
X-WR-CALNAME:Brann Bataljon Øst - BBØ
X-ORIGINAL-URL:https://www.brannoest.no/BBB
X-WR-CALDESC:Arrangementer for Brann Bataljon Øst - BBØ
BEGIN:VTIMEZONE
TZID:Europe/Helsinki
BEGIN:DAYLIGHT
TZOFFSETFROM:+0200
TZOFFSETTO:+0300
TZNAME:EEST
DTSTART:20160327T010000
END:DAYLIGHT
BEGIN:STANDARD
TZOFFSETFROM:+0300
TZOFFSETTO:+0200
TZNAME:EET
DTSTART:20161030T010000
END:STANDARD
END:VTIMEZONE
BEGIN:VEVENT
DTSTART;TZID=Europe/Helsinki:20160511T150000
DTEND;TZID=Europe/Helsinki:20160511T173000
DTSTAMP:20260424T205918
CREATED:20160509T135846Z
LAST-MODIFIED:20160510T064012Z
UID:2636-1462978800-1462987800@www.brannoest.no
SUMMARY:Oppkjøring før Åråsen
DESCRIPTION:Oppkjøring til bortekamp i Lillestrøm onsdag 11.mai\, kampstart 19.00 \nTider og møtesteder:\nPub i Oslo fra: Kl 15.00 (kom etter eget ønske\, Fiasco åpner 12.00) . Fiasco pub: http://www.fiasco.no/ \, ligger v Oslo S/busstasjonen \nFelles avreise: 16.54 eller 17.14 med tog til Lillestrøm. Vi peiler oss inn på 16.54 (10min reisetid). \nPub i Lillestrøm\, fra Ca kl 17.00 (møt opp når du selv ønsker): Martins\,http://martinspub.no/ \nKampstart på Åråsen kl 19.00- 21.00\nVi oppfordrer alle medlemmer og venner av BBØ å stå samlet under kamp. Lid i felleskap!
URL:https://www.brannoest.no/BBB/event/oppkjoring-for-arasen/
LOCATION:Cafe Fiasco\, v. Plaza
ORGANIZER;CN="BB%C3%98":MAILTO:einaravh@gmail.com
END:VEVENT
END:VCALENDAR