BEGIN:VCALENDAR
VERSION:2.0
PRODID:-//Brann Bataljon Øst - BBØ - ECPv5.1.6//NONSGML v1.0//EN
CALSCALE:GREGORIAN
METHOD:PUBLISH
X-WR-CALNAME:Brann Bataljon Øst - BBØ
X-ORIGINAL-URL:https://www.brannoest.no/BBB
X-WR-CALDESC:Arrangementer for Brann Bataljon Øst - BBØ
BEGIN:VTIMEZONE
TZID:Europe/Helsinki
BEGIN:DAYLIGHT
TZOFFSETFROM:+0200
TZOFFSETTO:+0300
TZNAME:EEST
DTSTART:20160327T010000
END:DAYLIGHT
BEGIN:STANDARD
TZOFFSETFROM:+0300
TZOFFSETTO:+0200
TZNAME:EET
DTSTART:20161030T010000
END:STANDARD
END:VTIMEZONE
BEGIN:VEVENT
DTSTART;TZID=Europe/Helsinki:20160717T140000
DTEND;TZID=Europe/Helsinki:20160717T150000
DTSTAMP:20260421T020026
CREATED:20160713T112249Z
LAST-MODIFIED:20160713T112249Z
UID:2727-1468764000-1468767600@www.brannoest.no
SUMMARY:Oppkjøring til Stabæk
DESCRIPTION:Søndagsmoro. \nBBØ samles på Fiasco fra ca 14. Vi satser på å kjøre samlet ca kl 15-ish… (Dette er BBØ… )\nVi skal ta T-Bane 3. til Bekkestua.\nDen tar 23. minutter.\nAvgangstider T-Bane Jernbanetorget: 14:42-57 & 15:12-27-42-57 \nEn liten oppfordring. Prøv å kjøpe billett på forhånd.
URL:https://www.brannoest.no/BBB/event/oppkjoring-til-stabaek/
LOCATION:Cafe Fiasco\, v. Plaza
ORGANIZER;CN="BB%C3%98":MAILTO:einaravh@gmail.com
END:VEVENT
END:VCALENDAR