BEGIN:VCALENDAR
VERSION:2.0
PRODID:-//Brann Bataljon Øst - BBØ - ECPv5.1.6//NONSGML v1.0//EN
CALSCALE:GREGORIAN
METHOD:PUBLISH
X-WR-CALNAME:Brann Bataljon Øst - BBØ
X-ORIGINAL-URL:https://www.brannoest.no/BBB
X-WR-CALDESC:Arrangementer for Brann Bataljon Øst - BBØ
BEGIN:VTIMEZONE
TZID:Europe/Oslo
BEGIN:DAYLIGHT
TZOFFSETFROM:+0100
TZOFFSETTO:+0200
TZNAME:CEST
DTSTART:20150329T010000
END:DAYLIGHT
BEGIN:STANDARD
TZOFFSETFROM:+0200
TZOFFSETTO:+0100
TZNAME:CET
DTSTART:20151025T010000
END:STANDARD
END:VTIMEZONE
BEGIN:VEVENT
DTSTART;TZID=Europe/Oslo:20150607T153000
DTEND;TZID=Europe/Oslo:20150607T173000
DTSTAMP:20260426T024938
CREATED:20150427T115113Z
LAST-MODIFIED:20150427T115113Z
UID:1968-1433691000-1433698200@www.brannoest.no
SUMMARY:SK Brann @Åsane - Borte
DESCRIPTION:12. Runde OBOS Ligaen \nBrann tar turen til IKEA \nØst ser match på O’Reilys på Løkka
URL:https://www.brannoest.no/BBB/event/sk-brann-asane-borte/
LOCATION:Åsane\, Bergen
END:VEVENT
END:VCALENDAR