BEGIN:VCALENDAR
VERSION:2.0
PRODID:-//Brann Bataljon Øst - BBØ - ECPv5.1.6//NONSGML v1.0//EN
CALSCALE:GREGORIAN
METHOD:PUBLISH
X-WR-CALNAME:Brann Bataljon Øst - BBØ
X-ORIGINAL-URL:https://www.brannoest.no/BBB
X-WR-CALDESC:Arrangementer for Brann Bataljon Øst - BBØ
BEGIN:VTIMEZONE
TZID:Europe/Oslo
BEGIN:DAYLIGHT
TZOFFSETFROM:+0100
TZOFFSETTO:+0200
TZNAME:CEST
DTSTART:20150329T010000
END:DAYLIGHT
BEGIN:STANDARD
TZOFFSETFROM:+0200
TZOFFSETTO:+0100
TZNAME:CET
DTSTART:20151025T010000
END:STANDARD
END:VTIMEZONE
BEGIN:VEVENT
DTSTART;TZID=Europe/Oslo:20150629T190000
DTEND;TZID=Europe/Oslo:20150629T210000
DTSTAMP:20260425T221843
CREATED:20150515T131404Z
LAST-MODIFIED:20150515T131404Z
UID:2037-1435604400-1435611600@www.brannoest.no
SUMMARY:SK Brann @Bærum - Borte
DESCRIPTION:C More fotball for de som ikke kan ta toget til Sandvika
URL:https://www.brannoest.no/BBB/event/sk-brann-baerum-borte/
LOCATION:Kadettangen Arena\, Sandvika
END:VEVENT
END:VCALENDAR