BEGIN:VCALENDAR
VERSION:2.0
PRODID:-//Brann Bataljon Øst - BBØ - ECPv5.1.6//NONSGML v1.0//EN
CALSCALE:GREGORIAN
METHOD:PUBLISH
X-WR-CALNAME:Brann Bataljon Øst - BBØ
X-ORIGINAL-URL:https://www.brannoest.no/BBB
X-WR-CALDESC:Arrangementer for Brann Bataljon Øst - BBØ
BEGIN:VTIMEZONE
TZID:Europe/Oslo
BEGIN:DAYLIGHT
TZOFFSETFROM:+0100
TZOFFSETTO:+0200
TZNAME:CEST
DTSTART:20150329T010000
END:DAYLIGHT
BEGIN:STANDARD
TZOFFSETFROM:+0200
TZOFFSETTO:+0100
TZNAME:CET
DTSTART:20151025T010000
END:STANDARD
END:VTIMEZONE
BEGIN:VEVENT
DTSTART;TZID=Europe/Oslo:20150706T190000
DTEND;TZID=Europe/Oslo:20150706T210000
DTSTAMP:20260425T204629
CREATED:20150515T132124Z
LAST-MODIFIED:20150515T132124Z
UID:2040-1436209200-1436216400@www.brannoest.no
SUMMARY:SK Brann @Kristiansund - Borte
DESCRIPTION:TV2 Zebra for heimfødingar
URL:https://www.brannoest.no/BBB/event/sk-brann-kristiansund-borte/
LOCATION:Kristiansund
END:VEVENT
END:VCALENDAR