BEGIN:VCALENDAR
VERSION:2.0
PRODID:-//Brann Bataljon Øst - BBØ - ECPv5.1.6//NONSGML v1.0//EN
CALSCALE:GREGORIAN
METHOD:PUBLISH
X-WR-CALNAME:Brann Bataljon Øst - BBØ
X-ORIGINAL-URL:https://www.brannoest.no/BBB
X-WR-CALDESC:Arrangementer for Brann Bataljon Øst - BBØ
BEGIN:VTIMEZONE
TZID:Europe/Helsinki
BEGIN:DAYLIGHT
TZOFFSETFROM:+0200
TZOFFSETTO:+0300
TZNAME:EEST
DTSTART:20160327T010000
END:DAYLIGHT
BEGIN:STANDARD
TZOFFSETFROM:+0300
TZOFFSETTO:+0200
TZNAME:EET
DTSTART:20161030T010000
END:STANDARD
END:VTIMEZONE
BEGIN:VEVENT
DTSTART;TZID=Europe/Helsinki:20160813T180000
DTEND;TZID=Europe/Helsinki:20160813T200000
DTSTAMP:20260425T221843
CREATED:20160319T081743Z
LAST-MODIFIED:20160319T081743Z
UID:2599-1471111200-1471118400@www.brannoest.no
SUMMARY:SK Brann @Vålerengen
DESCRIPTION:Tullevaal. Halvtomt. Engen. \nBBØ stiller\, stiller du? \n20. Serierunde \nFor de som ikke drar på kamp\, kan lidelsen deles på O’Reillys på Grünerløkka\, Markveien 35.
URL:https://www.brannoest.no/BBB/event/sk-brann-valerengen/
LOCATION:Ullevaal Stadion\, Sognsveien 75 A\, Oslo\, Oslo\, Norge
END:VEVENT
END:VCALENDAR