BEGIN:VCALENDAR
VERSION:2.0
PRODID:-//Brann Bataljon Øst - BBØ - ECPv5.1.6//NONSGML v1.0//EN
CALSCALE:GREGORIAN
METHOD:PUBLISH
X-WR-CALNAME:Brann Bataljon Øst - BBØ
X-ORIGINAL-URL:https://www.brannoest.no/BBB
X-WR-CALDESC:Arrangementer for Brann Bataljon Øst - BBØ
BEGIN:VTIMEZONE
TZID:Europe/Helsinki
BEGIN:DAYLIGHT
TZOFFSETFROM:+0200
TZOFFSETTO:+0300
TZNAME:EEST
DTSTART:20160327T010000
END:DAYLIGHT
BEGIN:STANDARD
TZOFFSETFROM:+0300
TZOFFSETTO:+0200
TZNAME:EET
DTSTART:20161030T010000
END:STANDARD
END:VTIMEZONE
BEGIN:VEVENT
DTSTART;TZID=Europe/Helsinki:20160611T170000
DTEND;TZID=Europe/Helsinki:20160611T233000
DTSTAMP:20260420T214724
CREATED:20160521T114927Z
LAST-MODIFIED:20160521T114927Z
UID:2642-1465664400-1465687800@www.brannoest.no
SUMMARY:Sommerfest BBØ 2016 @Johnannes
DESCRIPTION:Det skjer i år igjen. \nBBØ trommer sammen til sommerfest i sentrum av Oslo. \nJohannes har sagt seg villig til å stille med takterrasen som i fjor.\nModer natur har lovet godt vær. \nTa med deg godt humør og egen drikke\, BBØ står for maten \nTa turen\, stedet å være denne lørdagen. \nKanskje vi snur opp ned på en pub etterhvert? \nPris: 1o0\,- for medlemmer av BBØ / 150\,- for andre. \nPåmelding: Brannoest@gmail.com / styret@brannoest.no
URL:https://www.brannoest.no/BBB/event/sommerfest-bbo-2016-johnannes/
END:VEVENT
END:VCALENDAR