BEGIN:VCALENDAR
VERSION:2.0
PRODID:-//Brann Bataljon Øst - BBØ - ECPv5.1.6//NONSGML v1.0//EN
CALSCALE:GREGORIAN
METHOD:PUBLISH
X-WR-CALNAME:Brann Bataljon Øst - BBØ
X-ORIGINAL-URL:https://www.brannoest.no/BBB
X-WR-CALDESC:Arrangementer for Brann Bataljon Øst - BBØ
BEGIN:VTIMEZONE
TZID:Europe/Oslo
BEGIN:DAYLIGHT
TZOFFSETFROM:+0100
TZOFFSETTO:+0200
TZNAME:CEST
DTSTART:20150329T010000
END:DAYLIGHT
BEGIN:STANDARD
TZOFFSETFROM:+0200
TZOFFSETTO:+0100
TZNAME:CET
DTSTART:20151025T010000
END:STANDARD
END:VTIMEZONE
BEGIN:VEVENT
DTSTART;TZID=Europe/Oslo:20150830T150000
DTEND;TZID=Europe/Oslo:20150830T170000
DTSTAMP:20260423T115434
CREATED:20150805T093342Z
LAST-MODIFIED:20150805T093342Z
UID:2288-1440946800-1440954000@www.brannoest.no
SUMMARY:Strømmen-Brann
DESCRIPTION:Romerike – Strømmen\, lsk-substitutt. \nHei Strømmen Greyhounds!
URL:https://www.brannoest.no/BBB/event/strommen-brann/
LOCATION:Strømmen Stadion\, Strømmen\, Strømmen\, Ringerike\, Norge
END:VEVENT
END:VCALENDAR