BEGIN:VCALENDAR
VERSION:2.0
PRODID:-//Brann Bataljon Øst - BBØ - ECPv5.1.6//NONSGML v1.0//EN
CALSCALE:GREGORIAN
METHOD:PUBLISH
X-WR-CALNAME:Brann Bataljon Øst - BBØ
X-ORIGINAL-URL:https://www.brannoest.no/BBB
X-WR-CALDESC:Arrangementer for Brann Bataljon Øst - BBØ
BEGIN:VTIMEZONE
TZID:Europe/Helsinki
BEGIN:DAYLIGHT
TZOFFSETFROM:+0200
TZOFFSETTO:+0300
TZNAME:EEST
DTSTART:20160327T010000
END:DAYLIGHT
BEGIN:STANDARD
TZOFFSETFROM:+0300
TZOFFSETTO:+0200
TZNAME:EET
DTSTART:20161030T010000
END:STANDARD
END:VTIMEZONE
BEGIN:VEVENT
DTSTART;TZID=Europe/Helsinki:20160925T200000
DTEND;TZID=Europe/Helsinki:20160925T220000
DTSTAMP:20260425T143217
CREATED:20160319T083143Z
LAST-MODIFIED:20160319T083143Z
UID:2610-1474833600-1474840800@www.brannoest.no
SUMMARY:Tromsø @SK Brann
DESCRIPTION:Gutan på Stadion. \nGame on. Poeng å hente. \n25. Serierunde \nFor de som ikke drar på kamp\, kan lidelsen deles på O’Reillys på Grünerløkka\, Markveien 35.
URL:https://www.brannoest.no/BBB/event/tromso-sk-brann-2/
LOCATION:Stavanger Stadion\, Stavanger\, Norge
END:VEVENT
END:VCALENDAR